BEGIN:VCALENDAR
VERSION:2.0
PRODID:-//neumatt.schuleburgdorf.ch//NONSGML kigkonsult.se iCalcreator 2.22
 //
CALSCALE:GREGORIAN
METHOD:PUBLISH
X-WR-TIMEZONE:Europe/Berlin
BEGIN:VEVENT
UID:20260424T154601CEST-3443s8Zk9j@neumatt.schuleburgdorf.ch
DTSTAMP:20260424T134601Z
DESCRIPTION:Klicken Sie auf den folgenden Link\, um weitere Informationen z
 ur Veranstaltung zu erhalten:\nhttp://neumatt.schuleburgdorf.ch/de/abfallw
 irtschaft/abfallkalender/detail/detail.php?i=
DTSTART;VALUE=DATE:20260608
LOCATION:Route Kreis A
SUMMARY:Hauskehricht und Kleinsperrgut
END:VEVENT
END:VCALENDAR
